BEGIN:VCALENDAR
VERSION:2.0
PRODID:-//Plone.org//NONSGML plone.app.event//EN
X-WR-TIMEZONE:Europe/Madrid
BEGIN:VEVENT
SUMMARY:Taller intergeneracional "Tastet del Banc del Temps a Caldes"
DTSTART;TZID=Europe/Madrid;VALUE=DATE-TIME:20130710T170000
DTEND;TZID=Europe/Madrid;VALUE=DATE-TIME:20130710T180000
DTSTAMP;VALUE=DATE-TIME:20260425T231421Z
UID:17820f8d5c94b9b13d6acced9c4ea25f
CREATED;VALUE=DATE-TIME:20130710T000000Z
CATEGORIES:Cursos
LOCATION:L'Equipament (La Fabriqueta)
ORGANIZER:Serveis Socials (Ajuntament de Caldes d'Estrac)
COMMENT:Preu: Gratuït
Durada: 2 hores
URL:https://caldetes.cat/document.php?id=2307
END:VEVENT
END:VCALENDAR