BEGIN:VCALENDAR
VERSION:2.0
PRODID:-//Plone.org//NONSGML plone.app.event//EN
X-WR-TIMEZONE:Europe/Madrid
BEGIN:VEVENT
SUMMARY:Taller intergeneracional "Tastet del Banc del Temps a Caldes"
DTSTART;TZID=Europe/Madrid;VALUE=DATE-TIME:20130717T170000
DTEND;TZID=Europe/Madrid;VALUE=DATE-TIME:20130717T180000
DTSTAMP;VALUE=DATE-TIME:20260426T062726Z
UID:c1b59a379835ebd647a213b0729851d1
CREATED;VALUE=DATE-TIME:20130717T000000Z
CATEGORIES:Cursos
LOCATION:L'Equipament (La Fabriqueta)
ORGANIZER:Serveis Socials (Ajuntament de Caldes d'Estrac)
COMMENT:Preu: Gratuït
Durada: 2 hores
URL:https://caldetes.cat/document.php?id=2308
END:VEVENT
END:VCALENDAR