BEGIN:VCALENDAR
VERSION:2.0
PRODID:-//Plone.org//NONSGML plone.app.event//EN
X-WR-TIMEZONE:Europe/Madrid
BEGIN:VEVENT
SUMMARY:Espai de Salut amb Reiki
DTSTART;TZID=Europe/Madrid;VALUE=DATE-TIME:20130710T100000
DTEND;TZID=Europe/Madrid;VALUE=DATE-TIME:20130710T110000
DTSTAMP;VALUE=DATE-TIME:20260424T123746Z
UID:d3aaf47709f8ee2297c916737241b987
CREATED;VALUE=DATE-TIME:20130710T000000Z
LOCATION:Sala Cultural
ORGANIZER:Voluntaris terapeutes Reiki de Catalunya de Caldes
COMMENT:Preu: gratuit
URL:https://caldetes.cat/document.php?id=2310
END:VEVENT
END:VCALENDAR