BEGIN:VCALENDAR
VERSION:2.0
PRODID:-//Plone.org//NONSGML plone.app.event//EN
X-WR-TIMEZONE:Europe/Madrid
BEGIN:VEVENT
SUMMARY:II Trofeu Vila de Caldes de patinatge
DTSTART;TZID=Europe/Madrid;VALUE=DATE-TIME:20130713T090000
DTEND;TZID=Europe/Madrid;VALUE=DATE-TIME:20130713T100000
DTSTAMP;VALUE=DATE-TIME:20260425T160236Z
UID:c784a0c9d7b41b8b7553176306ac24d1
CREATED;VALUE=DATE-TIME:20130713T000000Z
CATEGORIES:Esports
LOCATION:Pavelló Poliesportiu Municipal
ORGANIZER:Club de Patinatge Artístic Caldes d'Estrac
COMMENT:Durada: 13 i 14 de juliol de 2013
DESCRIPTION:TROFEU DE PATINATGE ARTÍSTIC
URL:https://caldetes.cat/document.php?id=2336
END:VEVENT
END:VCALENDAR