BEGIN:VCALENDAR
VERSION:2.0
PRODID:-//Plone.org//NONSGML plone.app.event//EN
X-WR-TIMEZONE:Europe/Madrid
BEGIN:VEVENT
SUMMARY:Sessió informativa i organitzativa de la cadena humana de l'11 de Setembre
DTSTART;TZID=Europe/Madrid;VALUE=DATE-TIME:20130705T193000
DTEND;TZID=Europe/Madrid;VALUE=DATE-TIME:20130705T203000
DTSTAMP;VALUE=DATE-TIME:20260425T052838Z
UID:5c1f5e51ccd04bf8619d64517f3b974c
CREATED;VALUE=DATE-TIME:20130705T000000Z
LOCATION:L'Equipament (La Fabriqueta)
ORGANIZER:Caldes d'Estrac x la Independència
URL:https://caldetes.cat/document.php?id=2343
END:VEVENT
END:VCALENDAR