BEGIN:VCALENDAR
VERSION:2.0
PRODID:-//Plone.org//NONSGML plone.app.event//EN
X-WR-TIMEZONE:Europe/Madrid
BEGIN:VEVENT
SUMMARY:Festa a la platja del Varador
DTSTART;TZID=Europe/Madrid;VALUE=DATE-TIME:20130714T120000
DTEND;TZID=Europe/Madrid;VALUE=DATE-TIME:20130714T130000
DTSTAMP;VALUE=DATE-TIME:20260425T123236Z
UID:7d8a637895ea0421acb2d1e21ee5494d
CREATED;VALUE=DATE-TIME:20130714T000000Z
CATEGORIES:Festa
LOCATION:Platja del Varador de les barques
ORGANIZER:Associació de Pescadors, Afeccionats i Usuaris de la Varada d'Embarcacions de la platja de Caldes d'Estrac
COMMENT:Durada: Tot el dia
DESCRIPTION:Celebració de la festivitat de la Mares de Déu del Carme
URL:https://caldetes.cat/document.php?id=2349
END:VEVENT
END:VCALENDAR