BEGIN:VCALENDAR
VERSION:2.0
PRODID:-//Plone.org//NONSGML plone.app.event//EN
X-WR-TIMEZONE:Europe/Madrid
BEGIN:VEVENT
SUMMARY:Proves de nivell de Patinatge Artístic
DTSTART;TZID=Europe/Madrid;VALUE=DATE-TIME:20130721T090000
DTEND;TZID=Europe/Madrid;VALUE=DATE-TIME:20130721T100000
DTSTAMP;VALUE=DATE-TIME:20260425T160743Z
UID:f4d3d59ec8ecbca4a4fb7df73a905e40
CREATED;VALUE=DATE-TIME:20130721T000000Z
CATEGORIES:Esports
LOCATION:Pavelló de Sant Andreu, Barcelona
ORGANIZER:Club de Patinatge Artístic Caldes d'Estrac
DESCRIPTION:Proves Iniciació C i B
URL:https://caldetes.cat/document.php?id=2356
END:VEVENT
END:VCALENDAR