BEGIN:VCALENDAR
VERSION:2.0
PRODID:-//Plone.org//NONSGML plone.app.event//EN
X-WR-TIMEZONE:Europe/Madrid
BEGIN:VEVENT
SUMMARY:Proves de nivell de Patinatge Artístic
DTSTART;TZID=Europe/Madrid;VALUE=DATE-TIME:20130728T090000
DTEND;TZID=Europe/Madrid;VALUE=DATE-TIME:20130728T100000
DTSTAMP;VALUE=DATE-TIME:20260425T144310Z
UID:1699beccf1b3ec57e859f9c7e4197b46
CREATED;VALUE=DATE-TIME:20130728T000000Z
CATEGORIES:Esports
LOCATION:Pavelló de Viladecans
ORGANIZER:Club de Patinatge Artístic Caldes d'Estrac
DESCRIPTION:Proves Iniciació A i Certificat
URL:https://caldetes.cat/document.php?id=2362
END:VEVENT
END:VCALENDAR