BEGIN:VCALENDAR
VERSION:2.0
PRODID:-//Plone.org//NONSGML plone.app.event//EN
X-WR-TIMEZONE:Europe/Madrid
BEGIN:VEVENT
SUMMARY:Torneig Juvenil de Futbolí
DTSTART;TZID=Europe/Madrid;VALUE=DATE-TIME:20130809T170000
DTEND;TZID=Europe/Madrid;VALUE=DATE-TIME:20130809T180000
DTSTAMP;VALUE=DATE-TIME:20260424T174741Z
UID:995c5eeb0d180448a80d4ffb1eacd08c
CREATED;VALUE=DATE-TIME:20130809T000000Z
LOCATION:Espai Jove
ORGANIZER:Espai Jove (Àrea de Joventut)
COMMENT:Durada: De 5 h de la tarda a 9 h del vespre
DESCRIPTION:Premis als 3 primers classificats/des
URL:https://caldetes.cat/document.php?id=2377
END:VEVENT
END:VCALENDAR