BEGIN:VCALENDAR
VERSION:2.0
PRODID:-//Plone.org//NONSGML plone.app.event//EN
X-WR-TIMEZONE:Europe/Madrid
BEGIN:VEVENT
SUMMARY:Torneig d'agost de Tennis&ndash;Taula Juvenil a la Fresca
DTSTART;TZID=Europe/Madrid;VALUE=DATE-TIME:20130822T170000
DTEND;TZID=Europe/Madrid;VALUE=DATE-TIME:20130822T180000
DTSTAMP;VALUE=DATE-TIME:20260425T160728Z
UID:735541cc7f91e8608bca0e5f89c2a43e
CREATED;VALUE=DATE-TIME:20130822T000000Z
LOCATION:Parc Joan Maragall
ORGANIZER:Espai Jove (Àrea de Joventut)
COMMENT:Durada: Fins les 9 h del vespre
DESCRIPTION:22 i 23 d'agost, a la pèrgola del Parc Joan Maragall
URL:https://caldetes.cat/document.php?id=2378
END:VEVENT
END:VCALENDAR