BEGIN:VCALENDAR
VERSION:2.0
PRODID:-//Plone.org//NONSGML plone.app.event//EN
X-WR-TIMEZONE:Europe/Madrid
BEGIN:VEVENT
SUMMARY:Cursa-Exhibició d'OFNIS (Objectes Flotants No Identificats)
DTSTART;TZID=Europe/Madrid;VALUE=DATE-TIME:20130901T180000
DTEND;TZID=Europe/Madrid;VALUE=DATE-TIME:20130901T190000
DTSTAMP;VALUE=DATE-TIME:20260425T054037Z
UID:4e7f2492cad9b61425ce63f74df0a5cf
CREATED;VALUE=DATE-TIME:20130901T000000Z
LOCATION:Varador de les barques
ORGANIZER:Àrea de Joventut (Ajuntament de Caldes d'Estrac) i Espai Jove
DESCRIPTION:Obertes les inscripcions
URL:https://caldetes.cat/document.php?id=2389
END:VEVENT
END:VCALENDAR