BEGIN:VCALENDAR
VERSION:2.0
PRODID:-//Plone.org//NONSGML plone.app.event//EN
X-WR-TIMEZONE:Europe/Madrid
BEGIN:VEVENT
SUMMARY:Finals del 18è Torneig de Futbol Sala de Festa Major
DTSTART;TZID=Europe/Madrid;VALUE=DATE-TIME:20130830T180000
DTEND;TZID=Europe/Madrid;VALUE=DATE-TIME:20130830T190000
DTSTAMP;VALUE=DATE-TIME:20260425T160220Z
UID:aea0a7ab74bcdd30d28579a1843e2e6f
CREATED;VALUE=DATE-TIME:20130830T000000Z
LOCATION:Pavelló Poliesportiu Municipal
ORGANIZER:Àrea d'Esports (Ajuntament de Caldes d'Estrac)
DESCRIPTION:220 Participants han pres part d'aquest torneig
URL:https://caldetes.cat/document.php?id=2390
END:VEVENT
END:VCALENDAR