BEGIN:VCALENDAR
VERSION:2.0
PRODID:-//Plone.org//NONSGML plone.app.event//EN
X-WR-TIMEZONE:Europe/Madrid
BEGIN:VEVENT
SUMMARY:Fira de Brocanters
DTSTART;TZID=Europe/Madrid;VALUE=DATE-TIME:20130929T080000
DTEND;TZID=Europe/Madrid;VALUE=DATE-TIME:20130929T090000
DTSTAMP;VALUE=DATE-TIME:20260425T210529Z
UID:92dafd468f0b20de5dea60dfedf3ad36
CREATED;VALUE=DATE-TIME:20130929T000000Z
LOCATION:Esplanada Can Muntanyà
ORGANIZER:Promoció Econòmica, Comerç i Turisme
COMMENT:Durada: Fins les 3 h del migdia
DESCRIPTION:De 8 del matí a 3 h del migdia
URL:https://caldetes.cat/document.php?id=2437
END:VEVENT
END:VCALENDAR