BEGIN:VCALENDAR
VERSION:2.0
PRODID:-//Plone.org//NONSGML plone.app.event//EN
X-WR-TIMEZONE:Europe/Madrid
BEGIN:VEVENT
SUMMARY:Taller de Musicoteràpia
DTSTART;TZID=Europe/Madrid;VALUE=DATE-TIME:20140520T110000
DTEND;TZID=Europe/Madrid;VALUE=DATE-TIME:20140520T120000
DTSTAMP;VALUE=DATE-TIME:20260424T125531Z
UID:4b28ef5c90142dc08020049124c1c13a
CREATED;VALUE=DATE-TIME:20140520T000000Z
LOCATION:Casal dels Avis
COMMENT:Preu: gratuit
URL:https://caldetes.cat/document.php?id=2739
END:VEVENT
END:VCALENDAR