BEGIN:VCALENDAR
VERSION:2.0
PRODID:-//Plone.org//NONSGML plone.app.event//EN
X-WR-TIMEZONE:Europe/Madrid
BEGIN:VEVENT
SUMMARY:Taller de Musicoteràpia
DTSTART;TZID=Europe/Madrid;VALUE=DATE-TIME:20140617T110000
DTEND;TZID=Europe/Madrid;VALUE=DATE-TIME:20140617T120000
DTSTAMP;VALUE=DATE-TIME:20260426T062625Z
UID:90217b23b3022d4e6a49eaabfff78fdf
CREATED;VALUE=DATE-TIME:20140617T000000Z
LOCATION:Casal dels Avis
COMMENT:Preu: gratuit
URL:https://caldetes.cat/document.php?id=2743
END:VEVENT
END:VCALENDAR