BEGIN:VCALENDAR
VERSION:2.0
PRODID:-//Plone.org//NONSGML plone.app.event//EN
X-WR-TIMEZONE:Europe/Madrid
BEGIN:VEVENT
SUMMARY:"Paternitats". Poemes, històries, sons i gemecs.
DTSTART;TZID=Europe/Madrid;VALUE=DATE-TIME:20140510T183000
DTEND;TZID=Europe/Madrid;VALUE=DATE-TIME:20140510T193000
DTSTAMP;VALUE=DATE-TIME:20260424T123801Z
UID:c4068a01e2d5088d47c2a10a083516c2
CREATED;VALUE=DATE-TIME:20140510T000000Z
CATEGORIES:Literatura,Música
LOCATION:Sala Cultural
ORGANIZER:Biblioteca Can Milans
DESCRIPTION:Poesia i música a càrrec de Pep Blay i Krishoo Monthieux.
URL:https://caldetes.cat/document.php?id=2750
END:VEVENT
END:VCALENDAR