BEGIN:VCALENDAR
VERSION:2.0
PRODID:-//Plone.org//NONSGML plone.app.event//EN
X-WR-TIMEZONE:Europe/Madrid
BEGIN:VEVENT
SUMMARY:Lliurament de premis de la fase local de la XXXI Mostra Literària
DTSTART;TZID=Europe/Madrid;VALUE=DATE-TIME:20140511T180000
DTEND;TZID=Europe/Madrid;VALUE=DATE-TIME:20140511T190000
DTSTAMP;VALUE=DATE-TIME:20260424T200126Z
UID:e432fa7eabe07ae2d8dd380e5031b003
CREATED;VALUE=DATE-TIME:20140511T000000Z
LOCATION:Sala Cultural
ORGANIZER:Ajuntament de Caldes d'Estrac amb la col·laboració de l'Escola Sagrada Família i l'Escola Bressol municipal
DESCRIPTION:A les 18h, Hora del conte "Del Petit Príncep", a càrrec d'En Clau de Clown, Elena Codó
URL:https://caldetes.cat/document.php?id=2755
END:VEVENT
END:VCALENDAR