BEGIN:VCALENDAR
VERSION:2.0
PRODID:-//Plone.org//NONSGML plone.app.event//EN
X-WR-TIMEZONE:Europe/Madrid
BEGIN:VEVENT
SUMMARY:Sessió de cinema infantil
DTSTART;TZID=Europe/Madrid;VALUE=DATE-TIME:20140531T170000
DTEND;TZID=Europe/Madrid;VALUE=DATE-TIME:20140531T180000
DTSTAMP;VALUE=DATE-TIME:20260422T225650Z
UID:3474ca2668e42c9a62f5eb1b11b0eb8a
CREATED;VALUE=DATE-TIME:20140531T000000Z
LOCATION:Sala Cultural
ORGANIZER:AMPA Escola Sagrada Família
URL:https://caldetes.cat/document.php?id=2762
END:VEVENT
END:VCALENDAR