BEGIN:VCALENDAR
VERSION:2.0
PRODID:-//Plone.org//NONSGML plone.app.event//EN
X-WR-TIMEZONE:Europe/Madrid
BEGIN:VEVENT
SUMMARY:Concert de l'Escola de Música l'Oriola
DTSTART;TZID=Europe/Madrid;VALUE=DATE-TIME:20140504T113000
DTEND;TZID=Europe/Madrid;VALUE=DATE-TIME:20140504T123000
DTSTAMP;VALUE=DATE-TIME:20260424T014238Z
UID:8fac0bbdd537e8fcef0e2ca22179de4e
CREATED;VALUE=DATE-TIME:20140504T000000Z
CATEGORIES:Infantils,Música
LOCATION:Fundació Palau
ORGANIZER:Fundació Palau
COMMENT:Preu: Gratuït
DESCRIPTION:Els diumenges de la Fundació Palau
URL:https://caldetes.cat/document.php?id=2779
END:VEVENT
END:VCALENDAR