BEGIN:VCALENDAR
VERSION:2.0
PRODID:-//Plone.org//NONSGML plone.app.event//EN
X-WR-TIMEZONE:Europe/Madrid
BEGIN:VEVENT
SUMMARY:La màgia d'en Truki-Chan
DTSTART;TZID=Europe/Madrid;VALUE=DATE-TIME:20140601T113000
DTEND;TZID=Europe/Madrid;VALUE=DATE-TIME:20140601T123000
DTSTAMP;VALUE=DATE-TIME:20260426T050346Z
UID:01edb2b4e2aaeded77f02c4086f87502
CREATED;VALUE=DATE-TIME:20140601T000000Z
CATEGORIES:Infantils
LOCATION:Fundació Palau
ORGANIZER:Fundació Palau
COMMENT:Preu: 3 euros per persona
DESCRIPTION:Els diumenges de la Fundació Palau
URL:https://caldetes.cat/document.php?id=2780
END:VEVENT
END:VCALENDAR