BEGIN:VCALENDAR
VERSION:2.0
PRODID:-//Plone.org//NONSGML plone.app.event//EN
X-WR-TIMEZONE:Europe/Madrid
BEGIN:VEVENT
SUMMARY:Curs de formació a entitats per al nou portal web
DTSTART;TZID=Europe/Madrid;VALUE=DATE-TIME:20140404T190000
DTEND;TZID=Europe/Madrid;VALUE=DATE-TIME:20140404T200000
DTSTAMP;VALUE=DATE-TIME:20260424T054713Z
UID:7335a5b2651259899ae653d2b1948fd1
CREATED;VALUE=DATE-TIME:20140404T000000Z
LOCATION:L'Equipament (La Fabriqueta)
ORGANIZER:Àrea de Cultura (Ajuntament de Caldes d'Estrac)
DESCRIPTION:Cal confirmació d'assistència
URL:https://caldetes.cat/document.php?id=2786
END:VEVENT
END:VCALENDAR