BEGIN:VCALENDAR
VERSION:2.0
PRODID:-//Plone.org//NONSGML plone.app.event//EN
X-WR-TIMEZONE:Europe/Madrid
BEGIN:VEVENT
SUMMARY:Presentació de la nova guia de recursos del Maresme, "La cuina del Maresme"
DTSTART;TZID=Europe/Madrid;VALUE=DATE-TIME:20140508T190000
DTEND;TZID=Europe/Madrid;VALUE=DATE-TIME:20140508T200000
DTSTAMP;VALUE=DATE-TIME:20260424T012345Z
UID:552faaa73f8bc5916b2516a69b9acc4b
CREATED;VALUE=DATE-TIME:20140508T000000Z
CATEGORIES:Mostra,Literatura
LOCATION:Biblioteca Can Milans
ORGANIZER:Biblioteca Can Milans
DESCRIPTION:A càrrec de la Biblioteca Can Milans i el Restaurant Fonda Manau
URL:https://caldetes.cat/document.php?id=2800
END:VEVENT
END:VCALENDAR