BEGIN:VCALENDAR
VERSION:2.0
PRODID:-//Plone.org//NONSGML plone.app.event//EN
X-WR-TIMEZONE:Europe/Madrid
BEGIN:VEVENT
SUMMARY:Presentació del llibre "Ajudeu-me. El crit d'una llengua que vol seguir viva"
DTSTART;TZID=Europe/Madrid;VALUE=DATE-TIME:20140524T190000
DTEND;TZID=Europe/Madrid;VALUE=DATE-TIME:20140524T200000
DTSTAMP;VALUE=DATE-TIME:20260424T220253Z
UID:241605383afc9809f56378119fa079ac
CREATED;VALUE=DATE-TIME:20140524T000000Z
CATEGORIES:Literatura,Conferència
LOCATION:Biblioteca Can Milans
ORGANIZER:Biblioteca Can Milans. Col·labora: CNL de Maresme
DESCRIPTION:Presentació a càrrec de l'autora, Eliana Oliveira de Freitas
URL:https://caldetes.cat/document.php?id=2801
END:VEVENT
END:VCALENDAR