BEGIN:VCALENDAR
VERSION:2.0
PRODID:-//Plone.org//NONSGML plone.app.event//EN
X-WR-TIMEZONE:Europe/Madrid
BEGIN:VEVENT
SUMMARY:Presentació del programa "Aprenent a ser pares"
DTSTART;TZID=Europe/Madrid;VALUE=DATE-TIME:20140510T100000
DTEND;TZID=Europe/Madrid;VALUE=DATE-TIME:20140510T110000
DTSTAMP;VALUE=DATE-TIME:20260424T154405Z
UID:3eafd8010675204ae6a3b58ed2ac6462
CREATED;VALUE=DATE-TIME:20140510T000000Z
LOCATION:L'Equipament (La Fabriqueta)
ORGANIZER:Serveis Socials (Ajuntament de Caldes d'Estrac)
DESCRIPTION:Proposta d'educació parental adreçada a pares i mares
URL:https://caldetes.cat/document.php?id=2815
END:VEVENT
END:VCALENDAR