BEGIN:VCALENDAR
VERSION:2.0
PRODID:-//Plone.org//NONSGML plone.app.event//EN
X-WR-TIMEZONE:Europe/Madrid
BEGIN:VEVENT
SUMMARY:Taller per a la gent gran a l'Espai Lúdic
DTSTART;TZID=Europe/Madrid;VALUE=DATE-TIME:20140508T110000
DTEND;TZID=Europe/Madrid;VALUE=DATE-TIME:20140508T120000
DTSTAMP;VALUE=DATE-TIME:20260425T003039Z
UID:7b36346a0f6089f152a1a003becd6c2c
CREATED;VALUE=DATE-TIME:20140508T000000Z
ORGANIZER:Serveis Socials (Ajuntament de Caldes d'Estrac)
COMMENT:Durada: 1 hora
URL:https://caldetes.cat/document.php?id=2816
END:VEVENT
END:VCALENDAR