BEGIN:VCALENDAR
VERSION:2.0
PRODID:-//Plone.org//NONSGML plone.app.event//EN
X-WR-TIMEZONE:Europe/Madrid
BEGIN:VEVENT
SUMMARY:Taller per a la gent gran a l'Espai Lúdic
DTSTART;TZID=Europe/Madrid;VALUE=DATE-TIME:20140522T110000
DTEND;TZID=Europe/Madrid;VALUE=DATE-TIME:20140522T120000
DTSTAMP;VALUE=DATE-TIME:20260423T012102Z
UID:1d5e2d1d8e7c8586e8333260da6581fc
CREATED;VALUE=DATE-TIME:20140522T000000Z
LOCATION:Espai Lúdic
ORGANIZER:Serveis Socials (Ajuntament de Caldes d'Estrac)
COMMENT:Durada: 1 hora
URL:https://caldetes.cat/document.php?id=2818
END:VEVENT
END:VCALENDAR