BEGIN:VCALENDAR
VERSION:2.0
PRODID:-//Plone.org//NONSGML plone.app.event//EN
X-WR-TIMEZONE:Europe/Madrid
BEGIN:VEVENT
SUMMARY:Sortim de casa
DTSTART;TZID=Europe/Madrid;VALUE=DATE-TIME:20140514T170000
DTEND;TZID=Europe/Madrid;VALUE=DATE-TIME:20140514T180000
DTSTAMP;VALUE=DATE-TIME:20260423T055434Z
UID:0b75783ee2273b2281f02346b99142b7
CREATED;VALUE=DATE-TIME:20140514T000000Z
LOCATION:L'Equipament (La Fabriqueta)
ORGANIZER:Serveis Socials (Ajuntament de Caldes d'Estrac)
DESCRIPTION:Passejades en grup per racons de Caldes d'Estrac
URL:https://caldetes.cat/document.php?id=2820
END:VEVENT
END:VCALENDAR