BEGIN:VCALENDAR
VERSION:2.0
PRODID:-//Plone.org//NONSGML plone.app.event//EN
X-WR-TIMEZONE:Europe/Madrid
BEGIN:VEVENT
SUMMARY:Mercat de 2a Mà
DTSTART;TZID=Europe/Madrid;VALUE=DATE-TIME:20140601T090000
DTEND;TZID=Europe/Madrid;VALUE=DATE-TIME:20140601T100000
DTSTAMP;VALUE=DATE-TIME:20260424T123620Z
UID:0414411f51d7bf0d3f4705ad9b5ac898
CREATED;VALUE=DATE-TIME:20140601T000000Z
CATEGORIES:Mostra
LOCATION:Esplanada Can Muntanyà
ORGANIZER:Ajuntament de Caldes d'Estrac
COMMENT:Durada: Fins les 3 h de la tarda
URL:https://caldetes.cat/document.php?id=2836
END:VEVENT
END:VCALENDAR