BEGIN:VCALENDAR
VERSION:2.0
PRODID:-//Plone.org//NONSGML plone.app.event//EN
X-WR-TIMEZONE:Europe/Madrid
BEGIN:VEVENT
SUMMARY:"Experiències educatives"
DTSTART;TZID=Europe/Madrid;VALUE=DATE-TIME:20140509T190000
DTEND;TZID=Europe/Madrid;VALUE=DATE-TIME:20140509T200000
DTSTAMP;VALUE=DATE-TIME:20260422T190204Z
UID:eb048496860d9a2dc9d9e2f557b0fb0c
CREATED;VALUE=DATE-TIME:20140509T000000Z
CATEGORIES:Conferència
LOCATION:Sala Cultural
ORGANIZER:AMPA Escola Sagrada Família, amb la col·laboració de l'Ajuntament de Caldes d'Estrac
DESCRIPTION:2a Xerrada-col·loqui del cicle "Escola pública, optem pel canvi"
URL:https://caldetes.cat/document.php?id=2839
END:VEVENT
END:VCALENDAR