BEGIN:VCALENDAR
VERSION:2.0
PRODID:-//Plone.org//NONSGML plone.app.event//EN
X-WR-TIMEZONE:Europe/Madrid
BEGIN:VEVENT
SUMMARY:Campionat de Barcelona infantil pre, lliure
DTSTART;TZID=Europe/Madrid;VALUE=DATE-TIME:20140510T160000
DTEND;TZID=Europe/Madrid;VALUE=DATE-TIME:20140510T170000
DTSTAMP;VALUE=DATE-TIME:20260425T190127Z
UID:5688eca2299f668d755d9cd074183e08
CREATED;VALUE=DATE-TIME:20140510T000000Z
CATEGORIES:Esports
LOCATION:Pavelló municipal Pins Verds, Sitges
ORGANIZER:Club de Patinatge Artístic Caldes d'Estrac
COMMENT:Durada: 11 de maig de 2014
DESCRIPTION:Campionat de Patinatge Artístic
URL:https://caldetes.cat/document.php?id=2840
END:VEVENT
END:VCALENDAR