BEGIN:VCALENDAR
VERSION:2.0
PRODID:-//Plone.org//NONSGML plone.app.event//EN
X-WR-TIMEZONE:Europe/Madrid
BEGIN:VEVENT
SUMMARY:Tecnificació de Patinatge Artístic
DTSTART;TZID=Europe/Madrid;VALUE=DATE-TIME:20140517T090000
DTEND;TZID=Europe/Madrid;VALUE=DATE-TIME:20140517T100000
DTSTAMP;VALUE=DATE-TIME:20260424T082526Z
UID:518dc5cf4347484c940cc552d6f3329c
CREATED;VALUE=DATE-TIME:20140517T000000Z
CATEGORIES:Esports
LOCATION:Pavelló Poliesportiu Municipal
ORGANIZER:Club de Patinatge Artístic Caldes d'Estrac
COMMENT:Durada: 18 de maig de 2014
DESCRIPTION:Tecnificació esportiva
URL:https://caldetes.cat/document.php?id=2856
END:VEVENT
END:VCALENDAR