BEGIN:VCALENDAR
VERSION:2.0
PRODID:-//Plone.org//NONSGML plone.app.event//EN
X-WR-TIMEZONE:Europe/Madrid
BEGIN:VEVENT
SUMMARY:Interclubs 2014 de patinatge Artístic
DTSTART;TZID=Europe/Madrid;VALUE=DATE-TIME:20140518T090000
DTEND;TZID=Europe/Madrid;VALUE=DATE-TIME:20140518T100000
DTSTAMP;VALUE=DATE-TIME:20260422T190328Z
UID:c1ce6625dada9d4b75cb2f93d6d8819b
CREATED;VALUE=DATE-TIME:20140518T000000Z
CATEGORIES:Esports
LOCATION:Pavelló de Voltregà
ORGANIZER:Club de Patinatge Artístic Caldes d'Estrac
DESCRIPTION:Competició de Patinatge Artístic
URL:https://caldetes.cat/document.php?id=2857
END:VEVENT
END:VCALENDAR