BEGIN:VCALENDAR
VERSION:2.0
PRODID:-//Plone.org//NONSGML plone.app.event//EN
X-WR-TIMEZONE:Europe/Madrid
BEGIN:VEVENT
SUMMARY:La Nit de Museus
DTSTART;TZID=Europe/Madrid;VALUE=DATE-TIME:20140517T200000
DTEND;TZID=Europe/Madrid;VALUE=DATE-TIME:20140517T210000
DTSTAMP;VALUE=DATE-TIME:20260424T014041Z
UID:02146f959253cd05e241a0bc999f0c05
CREATED;VALUE=DATE-TIME:20140517T000000Z
CATEGORIES:Exposició,Música
LOCATION:Fundació Palau
ORGANIZER:Fundació Palau
COMMENT:Preu: Gratuït
Durada: Fins a les 18:00 del dia 18 de maig
DESCRIPTION:Celebració del Dia Internacional dels Museus
URL:https://caldetes.cat/document.php?id=2858
END:VEVENT
END:VCALENDAR