BEGIN:VCALENDAR
VERSION:2.0
PRODID:-//Plone.org//NONSGML plone.app.event//EN
X-WR-TIMEZONE:Europe/Madrid
BEGIN:VEVENT
SUMMARY:Campionat de Barcelona Júnior, Sènior i Absoluta Pre i Lliure
DTSTART;TZID=Europe/Madrid;VALUE=DATE-TIME:20140524T090000
DTEND;TZID=Europe/Madrid;VALUE=DATE-TIME:20140524T100000
DTSTAMP;VALUE=DATE-TIME:20260422T202222Z
UID:645a80152e790689c0fc88f6540569ca
CREATED;VALUE=DATE-TIME:20140524T000000Z
CATEGORIES:Esports
LOCATION:Pavelló municipal el Pujolet, Manresa
ORGANIZER:Club de Patinatge Artístic Caldes d'Estrac
COMMENT:Durada: 25 de maig de 2014
DESCRIPTION:Campionat de Patinatge Artístic
URL:https://caldetes.cat/document.php?id=2860
END:VEVENT
END:VCALENDAR