BEGIN:VCALENDAR
VERSION:2.0
PRODID:-//Plone.org//NONSGML plone.app.event//EN
X-WR-TIMEZONE:Europe/Madrid
BEGIN:VEVENT
SUMMARY:Terramar Triatló Popular Caldes d'Estrac
DTSTART;TZID=Europe/Madrid;VALUE=DATE-TIME:20140706T090000
DTEND;TZID=Europe/Madrid;VALUE=DATE-TIME:20140706T100000
DTSTAMP;VALUE=DATE-TIME:20260422T001945Z
UID:11acdca5080904b6cb3883bdfc7aa315
CREATED;VALUE=DATE-TIME:20140706T000000Z
LOCATION:Parc Joan Maragall
ORGANIZER:Besttrail i Ajuntament de Caldes d'Estrac
DESCRIPTION:Obertes les inscripcions
URL:https://caldetes.cat/document.php?id=2875
END:VEVENT
END:VCALENDAR