BEGIN:VCALENDAR
VERSION:2.0
PRODID:-//Plone.org//NONSGML plone.app.event//EN
X-WR-TIMEZONE:Europe/Madrid
BEGIN:VEVENT
SUMMARY:Taller per a la gent gran a l'Espai Lúdic
DTSTART;TZID=Europe/Madrid;VALUE=DATE-TIME:20140619T110000
DTEND;TZID=Europe/Madrid;VALUE=DATE-TIME:20140619T120000
DTSTAMP;VALUE=DATE-TIME:20260425T152257Z
UID:4653ddb0d8da07b4d93c0d78b1e286da
CREATED;VALUE=DATE-TIME:20140619T000000Z
ORGANIZER:Serveis Socials (Ajuntament de Caldes d'Estrac)
COMMENT:Durada: 1 hora
URL:https://caldetes.cat/document.php?id=2884
END:VEVENT
END:VCALENDAR