BEGIN:VCALENDAR
VERSION:2.0
PRODID:-//Plone.org//NONSGML plone.app.event//EN
X-WR-TIMEZONE:Europe/Madrid
BEGIN:VEVENT
SUMMARY:Proves de nivell de patinatge artístic, certificat i iniciació A
DTSTART;TZID=Europe/Madrid;VALUE=DATE-TIME:20140525T090000
DTEND;TZID=Europe/Madrid;VALUE=DATE-TIME:20140525T100000
DTSTAMP;VALUE=DATE-TIME:20260425T143835Z
UID:93e9e11ab3baee7ec4aeb07af3237953
CREATED;VALUE=DATE-TIME:20140525T000000Z
CATEGORIES:Esports
LOCATION:Pavelló d'Arenys de Mar
ORGANIZER:Club de Patinatge Artístic Caldes d'Estrac
DESCRIPTION:Proves d'aptitud
URL:https://caldetes.cat/document.php?id=2892
END:VEVENT
END:VCALENDAR