BEGIN:VCALENDAR
VERSION:2.0
PRODID:-//Plone.org//NONSGML plone.app.event//EN
X-WR-TIMEZONE:Europe/Madrid
BEGIN:VEVENT
SUMMARY:Taller "El lloc dels pares, el lloc dels fills", del programa "Aprenent a ser pares"
DTSTART;TZID=Europe/Madrid;VALUE=DATE-TIME:20140920T100000
DTEND;TZID=Europe/Madrid;VALUE=DATE-TIME:20140920T110000
DTSTAMP;VALUE=DATE-TIME:20260424T042200Z
UID:7547074e902725818b6552d4f4c51121
CREATED;VALUE=DATE-TIME:20140920T000000Z
LOCATION:L'Equipament (La Fabriqueta)
ORGANIZER:Serveis Socials (Ajuntament de Caldes d'Estrac)
COMMENT:Durada: 2 hores
DESCRIPTION:A càrrec de Lluís Vilalta
URL:https://caldetes.cat/document.php?id=2901
END:VEVENT
END:VCALENDAR