BEGIN:VCALENDAR
VERSION:2.0
PRODID:-//Plone.org//NONSGML plone.app.event//EN
X-WR-TIMEZONE:Europe/Madrid
BEGIN:VEVENT
SUMMARY:Parada "Signa un vot per la independència"
DTSTART;TZID=Europe/Madrid;VALUE=DATE-TIME:20140601T110000
DTEND;TZID=Europe/Madrid;VALUE=DATE-TIME:20140601T120000
DTSTAMP;VALUE=DATE-TIME:20260424T014539Z
UID:94362e08eead4c735f34a8b564c34388
CREATED;VALUE=DATE-TIME:20140601T000000Z
LOCATION:Esplanada Can Muntanyà
ORGANIZER:Caldes d'Estrac per la Independència
URL:https://caldetes.cat/document.php?id=2905
END:VEVENT
END:VCALENDAR