BEGIN:VCALENDAR
VERSION:2.0
PRODID:-//Plone.org//NONSGML plone.app.event//EN
X-WR-TIMEZONE:Europe/Madrid
BEGIN:VEVENT
SUMMARY:FESTIVAL POESIA I +
DTSTART;TZID=Europe/Madrid;VALUE=DATE-TIME:20140703T210000
DTEND;TZID=Europe/Madrid;VALUE=DATE-TIME:20140703T220000
DTSTAMP;VALUE=DATE-TIME:20260422T181500Z
UID:8f3b5f5e8d3e1c83fda7c2db7fa66c1d
CREATED;VALUE=DATE-TIME:20140703T000000Z
CATEGORIES:Música
LOCATION:Pèrgola Can Muntanyà
ORGANIZER:Fundació Palau
COMMENT:Preu: 20&euro;
DESCRIPTION:Paco Ibáñez. Recital inaugural de poesia i música
URL:https://caldetes.cat/document.php?id=2922
END:VEVENT
END:VCALENDAR