BEGIN:VCALENDAR
VERSION:2.0
PRODID:-//Plone.org//NONSGML plone.app.event//EN
X-WR-TIMEZONE:Europe/Madrid
BEGIN:VEVENT
SUMMARY:FESTIVAL POESIA I +
DTSTART;TZID=Europe/Madrid;VALUE=DATE-TIME:20140704T200000
DTEND;TZID=Europe/Madrid;VALUE=DATE-TIME:20140704T210000
DTSTAMP;VALUE=DATE-TIME:20260425T011043Z
UID:93c787f67eb9299ac36f0aa02361acc8
CREATED;VALUE=DATE-TIME:20140704T000000Z
CATEGORIES:Música
LOCATION:Fundació Palau
ORGANIZER:Fundació Palau I Ajuntament de Caldes d'Estrac
COMMENT:Preu: Gratuït
DESCRIPTION:Poesia de combat, amb David Caño i Blanca Llum Vidal
URL:https://caldetes.cat/document.php?id=2923
END:VEVENT
END:VCALENDAR