BEGIN:VCALENDAR
VERSION:2.0
PRODID:-//Plone.org//NONSGML plone.app.event//EN
X-WR-TIMEZONE:Europe/Madrid
BEGIN:VEVENT
SUMMARY:FESTIVAL POESIA I +
DTSTART;TZID=Europe/Madrid;VALUE=DATE-TIME:20140705T200000
DTEND;TZID=Europe/Madrid;VALUE=DATE-TIME:20140705T210000
DTSTAMP;VALUE=DATE-TIME:20260423T102841Z
UID:66e73c752f595d17c8916f8f183171dc
CREATED;VALUE=DATE-TIME:20140705T000000Z
CATEGORIES:Música
LOCATION:Fundació Palau
ORGANIZER:Fundació Palau i Ajuntament de Caldes d'Estrac
COMMENT:Preu: Gratuït
DESCRIPTION:Inventa't l'alegria (al voltant de Joan Vinyoli), amb Vicenç Altaió i Martí Sales
URL:https://caldetes.cat/document.php?id=2925
END:VEVENT
END:VCALENDAR