BEGIN:VCALENDAR
VERSION:2.0
PRODID:-//Plone.org//NONSGML plone.app.event//EN
X-WR-TIMEZONE:Europe/Madrid
BEGIN:VEVENT
SUMMARY:FESTIVAL POESIA I +
DTSTART;TZID=Europe/Madrid;VALUE=DATE-TIME:20140704T223000
DTEND;TZID=Europe/Madrid;VALUE=DATE-TIME:20140704T233000
DTSTAMP;VALUE=DATE-TIME:20260421T202130Z
UID:8377d4d3e63db568d412d5b76e76f2a8
CREATED;VALUE=DATE-TIME:20140704T000000Z
CATEGORIES:Música
LOCATION:Pèrgola Can Muntanyà
ORGANIZER:Fundació Palau i Ajuntament de Caldes d'Estrac
COMMENT:Preu: 12&euro; (entrada combinada amb Marçal Font+Blow)
DESCRIPTION:Albert Pla
URL:https://caldetes.cat/document.php?id=2926
END:VEVENT
END:VCALENDAR