BEGIN:VCALENDAR
VERSION:2.0
PRODID:-//Plone.org//NONSGML plone.app.event//EN
X-WR-TIMEZONE:Europe/Madrid
BEGIN:VEVENT
SUMMARY:FESTIVAL POESIA I +
DTSTART;TZID=Europe/Madrid;VALUE=DATE-TIME:20140705T210000
DTEND;TZID=Europe/Madrid;VALUE=DATE-TIME:20140705T220000
DTSTAMP;VALUE=DATE-TIME:20260423T120316Z
UID:acdc2989183833d0c313122af9c5b5f2
CREATED;VALUE=DATE-TIME:20140705T000000Z
CATEGORIES:Música
LOCATION:Pèrgola Can Muntanyà
ORGANIZER:Fundació Palau i Ajuntament de Caldes d'Estrac
COMMENT:Preu: 12 (entrada combinada amb Toti Soler Trio i Gemma Humet))
DESCRIPTION:Nit de Poetes, amb Carles Hac Mor, Susanna Rafart i Mireia Calafell
URL:https://caldetes.cat/document.php?id=2927
END:VEVENT
END:VCALENDAR