BEGIN:VCALENDAR
VERSION:2.0
PRODID:-//Plone.org//NONSGML plone.app.event//EN
X-WR-TIMEZONE:Europe/Madrid
BEGIN:VEVENT
SUMMARY:FESTIVAL POESIA I +
DTSTART;TZID=Europe/Madrid;VALUE=DATE-TIME:20140705T223000
DTEND;TZID=Europe/Madrid;VALUE=DATE-TIME:20140705T233000
DTSTAMP;VALUE=DATE-TIME:20260422T164204Z
UID:cd7dadfcad1810ebf52d5b68704a7ba8
CREATED;VALUE=DATE-TIME:20140705T000000Z
CATEGORIES:Música
LOCATION:Pèrgola Can Muntanyà
ORGANIZER:Fundació Palau i Ajuntament de Caldes d'Estrac
COMMENT:Preu: 12&euro; (entrada combinada amb Nit de poetes)
DESCRIPTION:Toti Soler Trio & Gemma Humet, Liebeslied
URL:https://caldetes.cat/document.php?id=2928
END:VEVENT
END:VCALENDAR