BEGIN:VCALENDAR
VERSION:2.0
PRODID:-//Plone.org//NONSGML plone.app.event//EN
X-WR-TIMEZONE:Europe/Madrid
BEGIN:VEVENT
SUMMARY:FESTIVAL POESIA I +
DTSTART;TZID=Europe/Madrid;VALUE=DATE-TIME:20140712T223000
DTEND;TZID=Europe/Madrid;VALUE=DATE-TIME:20140712T233000
DTSTAMP;VALUE=DATE-TIME:20260421T122955Z
UID:0e8202e0778637f68466f8f252b562ba
CREATED;VALUE=DATE-TIME:20140712T000000Z
CATEGORIES:Música
LOCATION:Pèrgola Can Muntanyà
ORGANIZER:Fundació Palau i Ajuntament de Caldes d'Estrac
COMMENT:Preu: 12&euro; (entrada combinada amb Andreu Subirats..)
DESCRIPTION:Adrià Puntí
URL:https://caldetes.cat/document.php?id=2942
END:VEVENT
END:VCALENDAR