BEGIN:VCALENDAR
VERSION:2.0
PRODID:-//Plone.org//NONSGML plone.app.event//EN
X-WR-TIMEZONE:Europe/Madrid
BEGIN:VEVENT
SUMMARY:Concert del Tricentenari, "De Catalunya al món"
DTSTART;TZID=Europe/Madrid;VALUE=DATE-TIME:20140719T200000
DTEND;TZID=Europe/Madrid;VALUE=DATE-TIME:20140719T210000
DTSTAMP;VALUE=DATE-TIME:20260423T222450Z
UID:4e7add473bf11416f7bbce9620d123ca
CREATED;VALUE=DATE-TIME:20140719T000000Z
LOCATION:Pèrgola Can Muntanyà
ORGANIZER:Ajuntament de Caldes d'Estrac
COMMENT:Preu: Entra 17 &euro; (general) i 25 &euro; (taula). Càtering inclós en ambdós preus.
DESCRIPTION:Tricentenari del Combat de Caldes 1713
URL:https://caldetes.cat/document.php?id=2962
END:VEVENT
END:VCALENDAR