BEGIN:VCALENDAR
VERSION:2.0
PRODID:-//Plone.org//NONSGML plone.app.event//EN
X-WR-TIMEZONE:Europe/Madrid
BEGIN:VEVENT
SUMMARY:Acte institucional de la commemoració del Tricentenari del Combat de Caldes i recreació del Combat
DTSTART;TZID=Europe/Madrid;VALUE=DATE-TIME:20140720T120000
DTEND;TZID=Europe/Madrid;VALUE=DATE-TIME:20140720T130000
DTSTAMP;VALUE=DATE-TIME:20260421T225455Z
UID:db65b01579712c8ba141ea00c54558ae
CREATED;VALUE=DATE-TIME:20140720T000000Z
LOCATION:Pèrgola Can Muntanyà
ORGANIZER:Ajuntament de Caldes d'Estrac
DESCRIPTION:Amb l'assistència de Miquel Calçada, Comissari del Tricentenari
URL:https://caldetes.cat/document.php?id=2963
END:VEVENT
END:VCALENDAR