BEGIN:VCALENDAR
VERSION:2.0
PRODID:-//Plone.org//NONSGML plone.app.event//EN
X-WR-TIMEZONE:Europe/Madrid
BEGIN:VEVENT
SUMMARY:Concert del Carme
DTSTART;TZID=Europe/Madrid;VALUE=DATE-TIME:20140712T220000
DTEND;TZID=Europe/Madrid;VALUE=DATE-TIME:20140712T230000
DTSTAMP;VALUE=DATE-TIME:20260419T221854Z
UID:1d4a992b3b61b92d1065aba3bbb6446a
CREATED;VALUE=DATE-TIME:20140712T000000Z
CATEGORIES:Música
LOCATION:Capella del Carme
ORGANIZER:L'Associació Arrels i Agrupació de Pensionistes i Tercera Edat de Caldes d'Estrac
COMMENT:Preu: Entrada lliure
DESCRIPTION:Festes de la Mare de Déu del Carme. Concert de Música Ibèrica
URL:https://caldetes.cat/document.php?id=2988
END:VEVENT
END:VCALENDAR