BEGIN:VCALENDAR
VERSION:2.0
PRODID:-//Plone.org//NONSGML plone.app.event//EN
X-WR-TIMEZONE:Europe/Madrid
BEGIN:VEVENT
SUMMARY:Belluga't
DTSTART;TZID=Europe/Madrid;VALUE=DATE-TIME:20140718T180000
DTEND;TZID=Europe/Madrid;VALUE=DATE-TIME:20140718T190000
DTSTAMP;VALUE=DATE-TIME:20260422T153232Z
UID:91d5d6cec9f719961fc8d2c0f73b8914
CREATED;VALUE=DATE-TIME:20140718T000000Z
CATEGORIES:Esports
LOCATION:Entarimat del Passeig de Caldes
ORGANIZER:Sige Sport i C.E Sistrells en col·laboració amb l' Ajuntament de Caldes
COMMENT:Preu: Gratuït
DESCRIPTION:Classe de Ioga oberta a tothom
URL:https://caldetes.cat/document.php?id=3009
END:VEVENT
END:VCALENDAR